BEGIN:VCALENDAR
VERSION:2.0
PRODID:-//Rockin&#039; City Junior Roller Derby - ECPv6.15.14//NONSGML v1.0//EN
CALSCALE:GREGORIAN
METHOD:PUBLISH
X-WR-CALNAME:Rockin&#039; City Junior Roller Derby
X-ORIGINAL-URL:https://www.rockincityjrd.org
X-WR-CALDESC:Events for Rockin&#039; City Junior Roller Derby
REFRESH-INTERVAL;VALUE=DURATION:PT1H
X-Robots-Tag:noindex
X-PUBLISHED-TTL:PT1H
BEGIN:VTIMEZONE
TZID:America/Chicago
BEGIN:DAYLIGHT
TZOFFSETFROM:-0600
TZOFFSETTO:-0500
TZNAME:CDT
DTSTART:20250309T080000
END:DAYLIGHT
BEGIN:STANDARD
TZOFFSETFROM:-0500
TZOFFSETTO:-0600
TZNAME:CST
DTSTART:20251102T070000
END:STANDARD
BEGIN:DAYLIGHT
TZOFFSETFROM:-0600
TZOFFSETTO:-0500
TZNAME:CDT
DTSTART:20260308T080000
END:DAYLIGHT
BEGIN:STANDARD
TZOFFSETFROM:-0500
TZOFFSETTO:-0600
TZNAME:CST
DTSTART:20261101T070000
END:STANDARD
BEGIN:DAYLIGHT
TZOFFSETFROM:-0600
TZOFFSETTO:-0500
TZNAME:CDT
DTSTART:20270314T080000
END:DAYLIGHT
BEGIN:STANDARD
TZOFFSETFROM:-0500
TZOFFSETTO:-0600
TZNAME:CST
DTSTART:20271107T070000
END:STANDARD
END:VTIMEZONE
BEGIN:VEVENT
DTSTART;TZID=America/Chicago:20260523T070000
DTEND;TZID=America/Chicago:20260524T150000
DTSTAMP:20260420T195158
CREATED:20260416T190241Z
LAST-MODIFIED:20260418T035919Z
UID:2222-1779519600-1779634800@www.rockincityjrd.org
SUMMARY:Summer Smash Tournament
DESCRIPTION:Get ready to roll into Summer with these junior derby teams that are ready to bring the heat! \nJoin us for two days of jam-packed derby action as RCJRD welcomes Dallas Rolling Rebellion\, 509 Junior Roller Derby\, and NE Oklahoma Roadkill Rollers to the track to end the season with a bang and kick off the Summer with a smash! \nDoors open at 7am both days; bleacher seating is available! \nSave the date\, snag your tickets\, and we’ll see you there! \n✨ Dallas Rolling Rebellion\n✨ 509 Junior Roller Derby\n✨ NE Oklahoma Roadkill Rollers\n \nKnow before you go \n🔹Tickets can be purchased in advance or at the door.\n🔹Children 7 and under are free\, but please reserve tickets below.\n🔹Each Level 3 skater will receive FREE ENTRY for one guardian for the weekend. Those accompanying mashup skaters will need to purchase a Saturday or weekend pass.\n🔹If you sign up to volunteer as a skating or non-skating official for any part of the weekend\, you receive FREE ENTRY FOR THE WEEKEND! If you’re interested in volunteering in this capacity\, please complete this form: https://docs.google.com/forms/d/1904BxuAqHhxICotL2hNr-kwiD4tCh8nzayTfBCfuYoE/viewform?chromeless=1&edit_requested=true \nGame Schedule \nSaturday\, May 23rd\n8:00am – 509 v. Roadkill\n10:00am – Dallas v. Rebels\n12:00pm – Rockstars v. Roadkill\n2:00pm – Level 2 Mashup\n4:00pm – Rockstars v. Dallas \nSunday\, May 24th\n8:00am – 509 v. Dallas\n10:00am – Rebels v. Roadkill\n1:00pm – Rockstars v. 509
URL:https://www.rockincityjrd.org/event/summer_smash_2026/
LOCATION:Austin Sports Center (Central)\, 425 Woodward Avenue\, Austin\, TX\, 78704\, United States
CATEGORIES:Tournament
ORGANIZER;CN="Rockin' City Junior Roller Derby":MAILTO:board-of-directors@rockincityjrd.org
END:VEVENT
END:VCALENDAR